BEGIN:VCALENDAR
VERSION:2.0
PRODID:-//CiviCRM//NONSGML CiviEvent iCal//EN
X-WR-TIMEZONE:America/Los_Angeles
METHOD:PUBLISH
BEGIN:VEVENT
UID:CiviCRM_EventID_920_36f1ce4382cf3cb12da1f99f4e299aac@cmcm.tv
SUMMARY:Studio Production
DESCRIPTION:\n 	\n \n 	In this four-week workshop\, you&#39\;l
 l get your hands on lights\, cameras\, the soundbo
 ard\, switcher\, teleprompter\, and character gene
 rator -- all the equipment necessary to produce yo
 ur own TV show. &nbsp\;Demonstrate competency thro
 ugh&nbsp\;all four sessions and you&#39\;ll be cer
 tified to use CMCM&#39\;s newly upgraded HD Studio
  to make your creative (tele)vision a reality. &nb
 sp\;Students&nbsp\;must attend all four sessions&n
 bsp\;to receive certification\, which is required 
 to use the Marin TV Studio.\n \n 	Prerequisite: CM
 CM Orientation and Membership\n \n 	Sessions: 4\n 
 \n 	Dates: Wednesdays (June 9\, 16\, 23\, 30)\n \n
  	Times: 6:00 PM - 9:00 PM\n \n 	Registration Info
 rmation\n \n 	Members $140&nbsp\;- Registration mu
 st be made on CMCM&#39\;s new content management s
 ystem\, RueShare.&nbsp\;To activate your RueShare 
 account\, please email info@cmcm.tv and a &quot\;M
 ember Invite&quot\; will be sent to you.\n \n 	NOT
 E: Requests for course refunds after 30 days will 
 incur a $10 charge.\n \n 	\n \n 	&nbsp\;\n \n 	&nb
 sp\;\n \n 	&nbsp\;\n \n \n 	Omid Shamsapour&nbsp\;
 is the Director of Operations here at the Communit
 y Media Center of Marin. He has had a lifelong pas
 sion for music\, film\, sports\, and entertainment
 .\n 	\n 	Omid graduated with&nbsp\;a Masters of Ar
 ts Degree in Sports Management from USF and a&nbsp
 \;Bachelors of Science Degree in Business &amp\; T
 echnology from Cal Poly covering business\, techno
 logy\, management\, music\, sports\, and entertain
 ment. He has also been involved in a number of sho
 rt films\, projects\, and productions throughout t
 he Bay Area.\n \n \n 	&nbsp\;
CATEGORIES:Workshop
CALSCALE:GREGORIAN
DTSTAMP;VALUE=DATE-TIME:20260609T180000
DTSTART;VALUE=DATE-TIME:20260609T180000
DTEND;VALUE=DATE-TIME:20260630T210000
LOCATION:819 A Street\n San Rafael\, CA 94901\n United Stat
 es\n 
ORGANIZER:MAILTO:info@cmcm.tv
URL:https://cmcm.tv/civicrm/event/info?reset=1&id=920
END:VEVENT
END:VCALENDAR