BEGIN:VCALENDAR
VERSION:2.0
PRODID:-//CiviCRM//NONSGML CiviEvent iCal//EN
X-WR-TIMEZONE:America/Los_Angeles
METHOD:PUBLISH
BEGIN:VEVENT
UID:CiviCRM_EventID_919_36f1ce4382cf3cb12da1f99f4e299aac@cmcm.tv
SUMMARY:Field Camera Production
DESCRIPTION:\n 	\n \n 	Learn basic shooting\, audio recording\
 , and video production skills using CMCM&#39\;s So
 ny PXW-X70 camcorders. &nbsp\;Get familiar with di
 fferent microphones\, tripods\, and monopods\, too
 . &nbsp\;Students&nbsp\;must attend all three sess
 ions&nbsp\;to receive certification\, which is req
 uired to check out&nbsp\;this professional quality
  video  production equipment from CMCM free of c
 harge.\n \n 	Prerequisite: CMCM Orientation and Me
 mbership\n \n 	Sessions: 3\n \n 	Dates: Thursdays&
 nbsp\;(May 14\, 21\, 28)\n \n 	Times: 6:00 PM - 9:
 00 PM\n \n 	Registration Information\n \n 	Members
  $105&nbsp\;- Registration must be made on CMCM&#3
 9\;s new content management system\, RueShare.&nbs
 p\;To activate your RueShare account\, please emai
 l info@cmcm.tv and a &quot\;Member Invite&quot\; w
 ill be sent to you.\n \n 	NOTE: Requests for cours
 e refunds after 30 days will incur a $10 charge.\n
  \n 	\n \n 	&nbsp\;\n \n 	&nbsp\;\n \n 	&nbsp\;\n 
 \n 	&nbsp\;\n \n 	&nbsp\;\n \n 	\n \n 	&nbsp\;\n \
 n 	&nbsp\;\n \n \n 	Justin is a filmmaker and prod
 ucer at CMCM. He has over 10 years of experience i
 n video production and editing. He has an Associat
 e&#39\;s degree in Communications and earned a Bac
 helor&#39\;s in Broadcasting and Electronic Commun
 ications Arts from San Francisco State University.
 \n \n \n 	&nbsp\;
CATEGORIES:Workshop
CALSCALE:GREGORIAN
DTSTAMP;VALUE=DATE-TIME:20260514T180000
DTSTART;VALUE=DATE-TIME:20260514T180000
DTEND;VALUE=DATE-TIME:20260528T210000
LOCATION:819 A Street\n San Rafael\, CA 94901\n United Stat
 es\n 
ORGANIZER:MAILTO:info@cmcm.tv
URL:https://cmcm.tv/civicrm/event/info?reset=1&id=919
END:VEVENT
END:VCALENDAR