BEGIN:VCALENDAR
VERSION:2.0
PRODID:-//CiviCRM//NONSGML CiviEvent iCal//EN
X-WR-TIMEZONE:America/Los_Angeles
METHOD:PUBLISH
BEGIN:VEVENT
UID:CiviCRM_EventID_918_36f1ce4382cf3cb12da1f99f4e299aac@cmcm.tv
SUMMARY:Final Cut Pro Editing
DESCRIPTION:\n 	\n \n 	Familiarize yourself with the entire ed
 iting process\, from importing media files to expo
 rting a complete piece. Get comfortable using edit
 ing tools\, effects\, titles\, and transitions\, a
 s well as FCP&rsquo\;s new organizational system. 
 Certification in FCP is required to use the CMCM e
 diting lab. &nbsp\;Students&nbsp\;must attend all 
 three sessions&nbsp\;to receive certification\, wh
 ich is required to use the CMCM editing lab.\n \n 
 	Prerequisite: CMCM Orientation and Membership\n \
 n 	Sessions: 3\n \n 	Dates: Tuesdays&nbsp\;(May 12
 \, 19\, 26)\n \n 	Times: 6:00 PM - 9:00 PM\n \n 	R
 egistration Information\n \n 	Members $105&nbsp\;-
 &nbsp\;Registration must be made on CMCM&#39\;s ne
 w content management system\,&nbsp\;RueShare.&nbsp
 \;To activate your RueShare account\, please email
 &nbsp\;info@cmcm.tv&nbsp\;and a &quot\;Member Invi
 te&quot\; will be sent to you.\n 	 NOTE: Requests 
 for course refunds after 30 days will incur a $10 
 charge.\n \n 	&nbsp\;\n \n 	&nbsp\;\n \n 	&nbsp\;\
 n \n 	&nbsp\;\n \n 	&nbsp\;\n \n 	\n \n 	&nbsp\;\n
  \n 	&nbsp\;\n \n 	\n \n 	&nbsp\;\n \n \n 	Justin 
 is a filmmaker and producer at CMCM. He has over 1
 0 years of experience in video production and edit
 ing.&nbsp\;&nbsp\;He has an Associate&#39\;s degre
 e in Communications and earned a Bachelor&#39\;s i
 n Broadcasting and Electronic Communications Arts 
 from San Francisco State University.\n \n \n 	&nbs
 p\;
CATEGORIES:Workshop
CALSCALE:GREGORIAN
DTSTAMP;VALUE=DATE-TIME:20260512T180000
DTSTART;VALUE=DATE-TIME:20260512T180000
DTEND;VALUE=DATE-TIME:20260526T210000
LOCATION:819 A Street\n San Rafael\, CA 94901\n United Stat
 es\n 
ORGANIZER:MAILTO:info@cmcm.tv
URL:https://cmcm.tv/civicrm/event/info?reset=1&id=918
END:VEVENT
END:VCALENDAR